BEGIN:VCALENDAR
VERSION:2.0
BEGIN:VEVENT
PRODID:-//EventsAdmin//EN
UID:c36bd5d2-d58f-4eec-8a56-b6c7a2c141f6@eventsadmin.com
DTSTAMP:20260423T153649Z
TRANSP:TRANSPARENT
DTSTART:20260507T111500
DTEND:20260507T113000
SUMMARY;ENCODING=QUOTED-PRINTABLE:Giovedì 7 maggio - turno 10.15-11.30
LOCATION;ENCODING=QUOTED-PRINTABLE:Fondazione Zoé, Corso Palladio 36, Vicenza
DESCRIPTION;ENCODING=QUOTED-PRINTABLE:Un semplice esame del sangue può prevenire il rischio di insorgenza di malattie cardiovascolari? La risposta è sì!=0D=0AFondazione Zoé, in collaborazione con l’associazione Amici del Cuore Vicenza Odv, propone un mese di screening cardiovascolare gratuito, con il supporto di medici e infermieri professionisti. Per evitare problemi cardiovascolari è fondamentale adottare uno stile di vita sano, monitorare pressione sanguigna, colesterolo e glicemia, sottoporsi a controlli periodici con il medico e seguire con 
END:VEVENT
END:VCALENDAR
