BEGIN:VCALENDAR
VERSION:2.0
BEGIN:VEVENT
PRODID:-//EventsAdmin//EN
UID:41b63098-c828-4a6f-a589-21ed581d0a79@eventsadmin.com
DTSTAMP:20260423T154004Z
TRANSP:TRANSPARENT
DTSTART:20260514T103000
DTEND:20260514T104500
SUMMARY;ENCODING=QUOTED-PRINTABLE:Giovedì 14 maggio - turno 10.15-11.30
LOCATION;ENCODING=QUOTED-PRINTABLE:Fondazione Zoé, Corso Palladio 36, Vicenza
DESCRIPTION;ENCODING=QUOTED-PRINTABLE:Un semplice esame del sangue può prevenire il rischio di insorgenza di malattie cardiovascolari? La risposta è sì!=0D=0AFondazione Zoé, in collaborazione con l’associazione Amici del Cuore Vicenza Odv, propone un mese di screening cardiovascolare gratuito, con il supporto di medici e infermieri professionisti. Per evitare problemi cardiovascolari è fondamentale adottare uno stile di vita sano, monitorare pressione sanguigna, colesterolo e glicemia, sottoporsi a controlli periodici con il medico e seguire con 
END:VEVENT
END:VCALENDAR
