BEGIN:VCALENDAR
VERSION:2.0
BEGIN:VEVENT
PRODID:-//EventsAdmin//EN
UID:d5bcc4a7-9d94-4bb2-8f2a-f2b1e26449c6@eventsadmin.com
DTSTAMP:20260423T153807Z
TRANSP:TRANSPARENT
DTSTART:20260528T093500
DTEND:20260528T095000
SUMMARY;ENCODING=QUOTED-PRINTABLE:Giovedì 28 maggio - turno 8.50-10.05
LOCATION;ENCODING=QUOTED-PRINTABLE:Fondazione Zoé, Corso Palladio 36, Vicenza
DESCRIPTION;ENCODING=QUOTED-PRINTABLE:Un semplice esame del sangue può prevenire il rischio di insorgenza di malattie cardiovascolari? La risposta è sì!=0D=0AFondazione Zoé, in collaborazione con l’associazione Amici del Cuore Vicenza Odv, propone un mese di screening cardiovascolare gratuito, con il supporto di medici e infermieri professionisti. Per evitare problemi cardiovascolari è fondamentale adottare uno stile di vita sano, monitorare pressione sanguigna, colesterolo e glicemia, sottoporsi a controlli periodici con il medico e seguire con 
END:VEVENT
END:VCALENDAR
